BEGIN:VCALENDAR
VERSION:2.0
PRODID:-//ChamberMaster//Event Calendar 2.0//EN
METHOD:PUBLISH
X-PUBLISHED-TTL:P3D
REFRESH-INTERVAL:P3D
CALSCALE:GREGORIAN
BEGIN:VEVENT
DTSTART:20210702T220000Z
DTEND:20210702T230000Z
X-MICROSOFT-CDO-ALLDAYEVENT:FALSE
SUMMARY:ACES Birds of Prey Programs
DESCRIPTION:Join ACES Naturalists and learn about the unique keystone predators that help keep our ecosystems healthy. Come meet our resident raptors\, learn their stories\, adaptatitions\, and behaviors\, and discover how we train these wild birds! Registration required.
X-ALT-DESC;FMTTYPE=text/html:Join ACES Naturalists and learn about the unique keystone predators that help keep our ecosystems healthy. Come meet our resident raptors\, learn their stories\, adaptatitions\, and behaviors\, and discover how we train these wild birds! Registration required.
LOCATION:ACES at Hallam Lake
UID:e.419.10101
SEQUENCE:3
DTSTAMP:20260425T113142Z
URL:https://chamber.carbondale.com/events/details/aces-birds-of-prey-programs-07-02-2021-10101
END:VEVENT

END:VCALENDAR
