BEGIN:VCALENDAR
VERSION:2.0
PRODID:-//ChamberMaster//Event Calendar 2.0//EN
METHOD:PUBLISH
X-PUBLISHED-TTL:P3D
REFRESH-INTERVAL:P3D
CALSCALE:GREGORIAN
BEGIN:VEVENT
DTSTART:20210712T220000Z
DTEND:20210712T230000Z
X-MICROSOFT-CDO-ALLDAYEVENT:FALSE
SUMMARY:ACES Know Your Trees Walk
DESCRIPTION:Firs and spruces\, aspens and cottttonwoods... How many trees do you know? Come explore ACES' backyard with us and discover up to a dozen species of conifers and deciduous trees. Registration required.
X-ALT-DESC;FMTTYPE=text/html:Firs and spruces\, aspens and cottttonwoods... How many trees do you know? Come explore ACES&rsquo\; backyard with us and discover up to a dozen species of conifers and deciduous trees. Registration required.
LOCATION:ACES at Hallam Lake
UID:e.419.10074
SEQUENCE:3
DTSTAMP:20260426T032346Z
URL:https://chamber.carbondale.com/events/details/aces-know-your-trees-walk-07-12-2021-10074
END:VEVENT

END:VCALENDAR
