BEGIN:VCALENDAR
VERSION:2.0
PRODID:-//ChamberMaster//Event Calendar 2.0//EN
METHOD:PUBLISH
X-PUBLISHED-TTL:P3D
REFRESH-INTERVAL:P3D
CALSCALE:GREGORIAN
BEGIN:VEVENT
DTSTART:20260512T210000Z
DTEND:20260512T220000Z
X-MICROSOFT-CDO-ALLDAYEVENT:FALSE
SUMMARY:Alzheimer’s and Dementia Caregiver Support Group
DESCRIPTION:Sopris Lodge has partnered with the Alzheimer's Association to offer a free in-person support group for families\, spouses\, and caregivers of those living with Alzheimer's or related dementia. The group meets on the second Tuesday of each month and is open to the public.
X-ALT-DESC;FMTTYPE=text/html:Sopris Lodge has partnered with the Alzheimer&rsquo\;s Association to offer a free in-person support group for families\, spouses\, and caregivers of those living with Alzheimer&rsquo\;s or related dementia. The group meets on the second Tuesday of each month and is open to the public.
LOCATION:Sopris Lodge at Carbondale 295 Rio Grande Avenue\, Carbondale\, CO 81623
UID:e.419.15947
SEQUENCE:3
DTSTAMP:20260423T200247Z
URL:https://chamber.carbondale.com/events/details/alzheimer-s-and-dementia-caregiver-support-group-15947
END:VEVENT

END:VCALENDAR
