BEGIN:VCALENDAR
VERSION:2.0
PRODID:-//ChamberMaster//Event Calendar 2.0//EN
METHOD:PUBLISH
X-PUBLISHED-TTL:P3D
REFRESH-INTERVAL:P3D
CALSCALE:GREGORIAN
BEGIN:VEVENT
DTSTART:20241201T030000Z
DTEND:20241201T060000Z
X-MICROSOFT-CDO-ALLDAYEVENT:FALSE
SUMMARY:An Evening with the Other Brothers
DESCRIPTION:OTHER BROTHERS unites members of the Colorado music scene to honor one of America's greatest musical legacies: The Allman Brothers Band. Other Brothers assembles members of JJ Grey & Mofro\, Circles Around The Sun\, and John Oates Band\, as well as the core of the original Derek Trucks Band   to capture the spirit and invoke the furious musical interplay pioneered by the Brothers on classics like "Dreams\,""Jessica\," and "Whipping Post." Expect the hits\, but also be prepared for ABB music that you won't hear anywhere else   especially like this.
X-ALT-DESC;FMTTYPE=text/html:<p>OTHER BROTHERS unites members of the Colorado music scene to honor one of America&rsquo\;s greatest musical legacies: The Allman Brothers Band. Other Brothers assembles members of JJ Grey &amp\; Mofro\, Circles Around The Sun\, and John Oates Band\, as well as the core of the original Derek Trucks Band &mdash\; to capture the spirit and invoke the furious musical interplay pioneered by the Brothers on classics like &ldquo\;Dreams\,&rdquo\;&rdquo\;Jessica\,&rdquo\; and &ldquo\;Whipping Post.&rdquo\; Expect the hits\, but also be prepared for ABB music that you won&rsquo\;t hear anywhere else &mdash\; especially like this.</p>\n
LOCATION:The Arts Campus at Willits 400 Robinson Street Basalt\, CO 81621
UID:e.419.12955
SEQUENCE:3
DTSTAMP:20260422T081206Z
URL:https://chamber.carbondale.com/events/details/an-evening-with-the-other-brothers-12955
END:VEVENT

END:VCALENDAR
