BEGIN:VCALENDAR
VERSION:2.0
PRODID:-//ChamberMaster//Event Calendar 2.0//EN
METHOD:PUBLISH
X-PUBLISHED-TTL:P3D
REFRESH-INTERVAL:P3D
CALSCALE:GREGORIAN
BEGIN:VEVENT
DTSTART:20190802T190000Z
DTEND:20190802T220000Z
X-MICROSOFT-CDO-ALLDAYEVENT:FALSE
SUMMARY:Annual Mushroom Fair
DESCRIPTION:Join visiting fungi experts\, Vera Evenson and Dr. Andrew Wilson\, Curator and Assistant Curator at the Sam Mitchel Herbarium of Fungi\, Denver Botanic Gardens\, for an ACES Annual Mushroom Fair! Learn all you ever wanted to know about mushrooms - a wide variety of specimens will be exhibited\, identified and examined up close. Come prepared to look at various mushrooms under a microscope\, make spore prints\, learn about their intricate ways and how important they are to the whole ecosystem - you're welcome to bring your own mushrooms to share and learn about. Come to ACES for a fun filled afternoon learning about mushrooms! Please walk\, bike\, bus\, or carpool to Hallam Lake as parking is very limited. RSVP at aspennature.org. Don't forget to join us for an in-epth 2-day field course with Vera and Andrew on Thursday and Friday preceding the fair.
X-ALT-DESC;FMTTYPE=text/html:Join visiting fungi experts\, Vera Evenson and Dr. Andrew Wilson\, Curator and Assistant Curator at the Sam Mitchel Herbarium of Fungi\, Denver Botanic Gardens\, for an ACES Annual Mushroom Fair! Learn all you ever wanted to know about mushrooms - a wide variety of specimens will be exhibited\, identified and examined up close. Come prepared to look at various mushrooms under a microscope\, make spore prints\, learn about their intricate ways and how important they are to the whole ecosystem - you&#39\;re welcome to bring your own mushrooms to share and learn about. Come to ACES for a fun filled afternoon learning about mushrooms! Please walk\, bike\, bus\, or carpool to Hallam Lake as parking is very limited. RSVP at aspennature.org. Don&#39\;t forget to join us for an in-epth 2-day field course with Vera and Andrew on Thursday and Friday preceding the fair.
LOCATION:ACES at Hallam Lake
UID:e.419.9025
SEQUENCE:3
DTSTAMP:20260423T175657Z
URL:https://chamber.carbondale.com/events/details/annual-mushroom-fair-08-02-2019-9025
END:VEVENT

END:VCALENDAR
