BEGIN:VCALENDAR
VERSION:2.0
PRODID:-//ChamberMaster//Event Calendar 2.0//EN
METHOD:PUBLISH
X-PUBLISHED-TTL:P3D
REFRESH-INTERVAL:P3D
CALSCALE:GREGORIAN
BEGIN:VEVENT
DTSTART:20211019T233000Z
DTEND:20211020T010000Z
X-MICROSOFT-CDO-ALLDAYEVENT:FALSE
SUMMARY:Author Talk With Writer In Residence Casey Gerald
DESCRIPTION:Casey Gerald is the author of "There Will Be No Miracles Here\," a memoir that stands the American Dream narrative on its head\, while straddling the complex intersection of race\, class\, religion and sexuality. TWBNMH was named a Best Book of 2018 by NPR and The New York Times. The book was a finalist for the LAMBDA Literary Award\, and a longlist selection for the Carnegie Medal for excellence in Nonfiction. Casey most recently published "The Black Art of Escape" in New York Magazine. The essay reflects on the 400th anniversary of the first enslaved Africans' arrival in Virginia\, in 1619. It reframes that event and the history since\, and articulates a new vision for black Americans in the 21st century. The essay was selected by Longform as one of the best essays of 2019. Casey's two TED Talks have been viewed over five million times\, and he has been featured on CNN\, MSNBC\, PBS\, as well as in The Guardian\, the New York Review of Books\, and other outlets. He lives in Austin\, Texas.
X-ALT-DESC;FMTTYPE=text/html:Casey Gerald is the author of &ldquo\;There Will Be No Miracles Here\,&rdquo\; a memoir that stands the American Dream narrative on its head\, while straddling the complex intersection of race\, class\, religion and sexuality. TWBNMH was named a Best Book of 2018 by NPR and The New York Times. The book was a finalist for the LAMBDA Literary Award\, and a longlist selection for the Carnegie Medal for excellence in Nonfiction. Casey most recently published &ldquo\;The Black Art of Escape&rdquo\; in New York Magazine. The essay reflects on the 400th anniversary of the first enslaved Africans&rsquo\; arrival in Virginia\, in 1619. It reframes that event and the history since\, and articulates a new vision for black Americans in the 21st century. The essay was selected by Longform as one of the best essays of 2019. Casey&rsquo\;s two TED Talks have been viewed over five million times\, and he has been featured on CNN\, MSNBC\, PBS\, as well as in The Guardian\, the New York Review of Books\, and other outlets. He lives in Austin\, Texas.
LOCATION:The Arts Campus at Willits 400 Robinson St. Basalt\, CO 81621
UID:e.419.10337
SEQUENCE:3
DTSTAMP:20260422T013431Z
URL:https://chamber.carbondale.com/events/details/author-talk-with-writer-in-residence-casey-gerald-10337
END:VEVENT

END:VCALENDAR
