BEGIN:VCALENDAR
VERSION:2.0
PRODID:-//ChamberMaster//Event Calendar 2.0//EN
METHOD:PUBLISH
X-PUBLISHED-TTL:P3D
REFRESH-INTERVAL:P3D
CALSCALE:GREGORIAN
BEGIN:VEVENT
DTSTART:20250917T220000Z
DTEND:20250918T000000Z
X-MICROSOFT-CDO-ALLDAYEVENT:FALSE
SUMMARY:Business After Hours at Homestead Bar & Grill
DESCRIPTION:Join the Carbondale Chamber on Wednesday\, September 17th from 4-6 pm for Business After Hours (BAH)\, a free event for Carbondale Chamber members to meet\, network\, enjoy small bites and refreshments\, and win prizes.\n\n\n\nBe sure to bring business cards for networking and door prizes! \n\n\n\nNo need to register if you are registered for the Business Confluence (you will automatically be registered for this event as well). Interested in registering for the Business Confluence? Click here.\n\n \n\nBusiness After Hours is a private event for Carbondale Chamber members and their registered guests (please include your guest as an attendee when you register).
X-ALT-DESC;FMTTYPE=text/html:<span style="font-size: 14px\;"><span style="font-family: arial\;">Join the Carbondale Chamber on Wednesday\, September 17th from 4-6 pm for&nbsp\;Business After Hours&nbsp\;</span></span><span style="font-family: arial\; font-size: 14px\;">(BAH)\,</span><span style="font-family: arial\; font-size: 14px\;">&nbsp\;a free event for Carbondale Chamber members to meet\, network\, enjoy small bites and refreshments\, and win prizes.</span><br />\n<br />\n<span style="font-size: 14px\;">Be sure to bring business cards for networking and door prizes!&nbsp\;</span><br />\n<br />\n<i style="text-align: center\;"><span style="font-size:10.5pt\;\nfont-family:&quot\;Arial&quot\;\,sans-serif\;color:black">No need to register if you are registered for the Business Confluence (you will automatically be registered for this event as well). Interested&nbsp\;in registering for the Business Confluence? Click </span></i><span style="text-align: center\; font-size: 11.5pt\; font-family: Arial\, sans-serif\; color: black\;"><a href="https://5dlukqcab.cc.rs6.net/tn.jsp?f=001DZnnqmEhr1AZ98UNFf4umE___KnwRM3OqBTgFr_5v9qTviig3Y_a_3ko_w3yxkVZMVyqXvy3XXULZ8eoC-xjW4-C7P9WEw5HI_5kulXH8RCpaULwErOd0ZzBuLlxA0Ml3ZFN_AJ4qKPEy1a7EfA_k7yzTklBySbLvaFRH0WtNJezEBALrRnE2K4J__6aTYLn2IIftPK0-MDOGAeDMUB4DLiAuqQdEDbnGUGxDhvHBTg=&amp\;c=vGkaJse8I1Vo9sxbWA2mI3RP78uA_DDV8ZV_sNHhXF4sgdRdaioYzg==&amp\;ch=AnX5f30UQ9DWnuOYNNmUECNmghZmlr_ZMf396lxHL9iCVCrESRy3EA==" target="_blank"><b><i><span style="font-size: 10.5pt\; color: rgb(214\, 113\, 66)\; text-decoration-line: none\;">here</span></i></b></a></span><i style="text-align: center\;"><span style="font-size:10.5pt\;font-family:&quot\;Arial&quot\;\,sans-serif\;color:black">.</span></i><br />\n&nbsp\;\n<div>\n<div><em><span style="font-size: 14px\;">Business After Hours is a private event for Carbondale Chamber members and their registered guests (please include your guest as an attendee when you register).</span></em></div>\n</div>\n\n<div>&nbsp\;</div>\n
LOCATION:Homestead Bar & Grill at River Valley Ranch 303 River Valley Ranch Rd\, Carbondale CO 81623
UID:e.419.11489
SEQUENCE:3
DTSTAMP:20260420T142744Z
URL:https://chamber.carbondale.com/events/details/business-after-hours-at-homestead-bar-grill-09-17-2025-11489
END:VEVENT

END:VCALENDAR
