BEGIN:VCALENDAR
VERSION:2.0
PRODID:-//ChamberMaster//Event Calendar 2.0//EN
METHOD:PUBLISH
X-PUBLISHED-TTL:P3D
REFRESH-INTERVAL:P3D
CALSCALE:GREGORIAN
BEGIN:VEVENT
DTSTART:20260819T220000Z
DTEND:20260820T000000Z
X-MICROSOFT-CDO-ALLDAYEVENT:FALSE
SUMMARY:Business After Hours at The Homestead Bar & Grill
DESCRIPTION:Join the Carbondale Chamber on Wednesday August 19th from 4-6pm for Business After Hours (BAH)\, a free event where Carbondale Chamber members can connect\, expand their professional network\, enjoy complimentary small bites and refreshments\, and win prizes! This BAH is hosted by The Homestead Bar and Grill located at 303 River Valley Road in Carbondale.\n\n\n\nBe sure to bring business cards for networking and door prizes! \n\n \n\nBusiness After Hours is a private event for Carbondale Chamber members and their registered guests (please include your guest as an attendee when you register).
X-ALT-DESC;FMTTYPE=text/html:<span style="font-size: 14px\;"><span style="font-family: arial\;">Join the Carbondale Chamber on Wednesday August 19th from 4-6pm for&nbsp\;Business After Hours&nbsp\;</span></span><span style="font-family: arial\; font-size: 14px\;">(BAH)\,&nbsp\;a free event where Carbondale Chamber members can connect</span><span style="font-size: 14px\;">\, expand their professional network\, enjoy complimentary small bites and refreshments\, and win prizes! This BAH is hosted by <a href="https://rvrgolf.com/restaurant/">The Homestead&nbsp\;Bar and Grill</a>&nbsp\;located at 303 River Valley Road in Carbondale.</span><br />\n<br />\n<span style="font-size: 14px\;">Be sure to bring business cards for networking and door prizes!&nbsp\;</span><br />\n&nbsp\;\n<div>\n<div><em><span style="font-size: 14px\;">Business After Hours is a private event for Carbondale Chamber members and their registered guests (please include your guest as an attendee when you register).</span></em></div>\n</div>\n\n<div>&nbsp\;</div>\n
LOCATION:The Homestead 303 River Valley Road\, Carbondale CO 81623
UID:e.419.11500
SEQUENCE:3
DTSTAMP:20260425T033858Z
URL:https://chamber.carbondale.com/events/details/business-after-hours-at-the-homestead-bar-grill-11500
END:VEVENT

END:VCALENDAR
