BEGIN:VCALENDAR
VERSION:2.0
PRODID:-//ChamberMaster//Event Calendar 2.0//EN
METHOD:PUBLISH
X-PUBLISHED-TTL:P3D
REFRESH-INTERVAL:P3D
CALSCALE:GREGORIAN
BEGIN:VEVENT
DTSTART:20260520T220000Z
DTEND:20260521T000000Z
X-MICROSOFT-CDO-ALLDAYEVENT:FALSE
SUMMARY:Business After Hours at Carbondale Arts
DESCRIPTION:Join the Carbondale Chamber on Wednesday May 20th from 4-6pm for Business After Hours (BAH)\, a free event where Carbondale Chamber members can connect\, expand their professional network\, enjoy complimentary small bites and refreshments\, and win prizes!\n\nThis BAH is hosted by Carbondale Arts located at 76 S. 4th Street\, Carbondale\n\n\n\nBe sure to bring business cards for networking and door prizes! \n\n \n\nBusiness After Hours is a private event for Carbondale Chamber members and their registered guests (please include your guest as an attendee when you register).
X-ALT-DESC;FMTTYPE=text/html:<span style="font-size:14px\;"><span style="font-family: arial\;">Join the Carbondale Chamber on Wednesday May 20th from 4-6pm for&nbsp\;Business After Hours&nbsp\;</span><span style="font-family: arial\;">(BAH)\,&nbsp\;a free event where Carbondale Chamber members can connect</span>\, expand their professional network\, enjoy complimentary small bites and refreshments\, and win prizes!<br />\nThis BAH is hosted by <a href="https://www.carbondalearts.com/">Carbondale Arts</a> located at 76 S. 4th Street\, Carbondale<br />\n<br />\nBe sure to bring business cards for networking and door prizes!&nbsp\;</span><br />\n&nbsp\;\n<div>\n<div><span style="font-size:14px\;"><em>Business After Hours is a private event for Carbondale Chamber members and their registered guests (please include your guest as an attendee when you register).</em></span></div>\n</div>\n\n<div>&nbsp\;</div>\n
LOCATION:Carbondale Arts - 76 S. 4th Street\, Carbondale CO 81623
UID:e.419.11497
SEQUENCE:3
DTSTAMP:20260423T214028Z
URL:https://chamber.carbondale.com/events/details/carbondale-chamber-business-after-hours-05-20-2026-11497
END:VEVENT

END:VCALENDAR
