BEGIN:VCALENDAR
VERSION:2.0
PRODID:-//ChamberMaster//Event Calendar 2.0//EN
METHOD:PUBLISH
X-PUBLISHED-TTL:P3D
REFRESH-INTERVAL:P3D
CALSCALE:GREGORIAN
BEGIN:VEVENT
DTSTART:20210915T160000Z
DTEND:20210915T210000Z
X-MICROSOFT-CDO-ALLDAYEVENT:FALSE
SUMMARY:Carbondale Farmers' Market
DESCRIPTION:Carbondale Farmers' Market\n\nJune 16th - September 29th \n\nWednesdays - 10 am - 3 pm\n\n\n\nLive Music on the Second and Last Wednesday of Every Month\n\n\n\n2021 Farmers' Market Vendor List | Musician Schedule\n\n\n\nJoin Carbondale Arts on the 4th Street Plaza Lawn from 10 am - 12 pm for kid's Activities on July 7\, July 14\, July 21\, August 4th\, 11th\, and 18th.\n\n\n\nSNAP & Double Up Food Bucks Accepted
X-ALT-DESC;FMTTYPE=text/html:<strong>Carbondale Farmers&#39\; Market</strong><br />\nJune 16th - September 29th&nbsp\;<br />\nWednesdays - 10 am - 3 pm<br />\n<br />\nLive Music on the Second and Last Wednesday of Every Month<br />\n<br />\n<strong><a href="https://www.carbondalefarmersmarket.com/2021-vendors">2021 Farmers&#39\; Market Vendor List</a> | <a href="https://www.carbondalefarmersmarket.com/musician-schedule">Musician Schedule</a></strong><br />\n<br />\nJoin Carbondale Arts on the 4th Street Plaza Lawn from&nbsp\;10 am - 12 pm for kid&rsquo\;s Activities on July 7\, July 14\, July 21\, August 4th\, 11th\, and 18th.<br />\n<br />\n<a href="https://www.carbondalefarmersmarket.com/snap-ebt">SNAP</a>&nbsp\;&amp\; <a href="https://www.carbondalefarmersmarket.com/double-up-food-bucks-1">Double Up Food Bucks</a> Accepted
LOCATION:4th and Main\, Carbondale\, Colorado 81623
UID:e.419.10045
SEQUENCE:3
DTSTAMP:20260420T204015Z
URL:https://chamber.carbondale.com/events/details/carbondale-farmers-market-09-15-2021-10045
END:VEVENT

END:VCALENDAR
