BEGIN:VCALENDAR
VERSION:2.0
PRODID:-//ChamberMaster//Event Calendar 2.0//EN
METHOD:PUBLISH
X-PUBLISHED-TTL:P3D
REFRESH-INTERVAL:P3D
CALSCALE:GREGORIAN
BEGIN:VEVENT
DTSTART:20260507T233000Z
DTEND:20260508T013000Z
X-MICROSOFT-CDO-ALLDAYEVENT:FALSE
SUMMARY:CCC Community Mixer
DESCRIPTION:Please join the Carbondale Clay Center on Thursday\, May 7th at 5:30 pm\, for a festive evening on the patio at Sprazzo\, 689 Main Street\, for drinks\, appetizers\, and a community update on the Carbondale Clay Center's capital campaign. We look forward to coming together to celebrate the Clay Center's important role in nurturing creativity\, building connection\, and enriching the Carbondale community.
X-ALT-DESC;FMTTYPE=text/html:Please join the Carbondale Clay Center on Thursday\, May 7th at 5:30 pm\, for a festive evening on the patio at Sprazzo\, 689 Main Street\, for drinks\, appetizers\, and a community update on the Carbondale Clay Center&rsquo\;s capital campaign. We look forward to coming together to celebrate the Clay Center&rsquo\;s important role in nurturing creativity\, building connection\, and enriching the Carbondale community.&nbsp\;
LOCATION:Sprazzo 689 Main St.\, Carbondale\, CO 81623
UID:e.419.15952
SEQUENCE:3
DTSTAMP:20260423T200103Z
URL:https://chamber.carbondale.com/events/details/ccc-community-mixer-15952
END:VEVENT

END:VCALENDAR
