BEGIN:VCALENDAR
VERSION:2.0
PRODID:-//ChamberMaster//Event Calendar 2.0//EN
METHOD:PUBLISH
X-PUBLISHED-TTL:P3D
REFRESH-INTERVAL:P3D
CALSCALE:GREGORIAN
BEGIN:VEVENT
DTSTART:20260416T020000Z
DTEND:20260416T040000Z
X-MICROSOFT-CDO-ALLDAYEVENT:FALSE
SUMMARY:Comedian Kyle Kinane
DESCRIPTION:Kyle is a social media sensation participant who has never Killed Tony or Experienced Joe Rogan. He once met Morris the Cat from the MeowMix commercials\, which he feels is far more valuable.
X-ALT-DESC;FMTTYPE=text/html:<span style="font-family:times new roman"><span style="color:rgb(0\, 0\, 0)\; font-size:20px">Kyle is a social media&nbsp\;</span><span style="font-size:20px"><s>sensation</s></span></span><span style="color:rgb(0\, 0\, 0)\; font-family:avenir-next\; font-size:20px"><span style="font-family:times new roman"><span style="font-size:16px">&nbsp\;</span>participant who has never Killed Tony or Experienced Joe Rogan. He once met Morris the Cat from the MeowMix commercials\, which he feels is far more valuable</span>.</span>
LOCATION:TACAW (The Arts Campus at Willits)
UID:e.419.15919
SEQUENCE:3
DTSTAMP:20260423T061026Z
URL:https://chamber.carbondale.com/events/details/comedian-kyle-kinane-15919
END:VEVENT

END:VCALENDAR
