BEGIN:VCALENDAR
VERSION:2.0
PRODID:-//ChamberMaster//Event Calendar 2.0//EN
METHOD:PUBLISH
X-PUBLISHED-TTL:P3D
REFRESH-INTERVAL:P3D
CALSCALE:GREGORIAN
BEGIN:VEVENT
DTSTART:20260603T213000Z
DTEND:20260603T230000Z
X-MICROSOFT-CDO-ALLDAYEVENT:FALSE
SUMMARY:Conversations on Mortality
DESCRIPTION:Join Sopris Lodge for "Conversations on Mortality\," a welcoming and relaxed space to explore topics around death and dying through thoughtful\, meaningful conversation. Led by Death Doula and End-of-Life Consultant Akaljeet Khalsa\, this quarterly gathering offers an opportunity for reflection\, connection and shared perspectives\, fostering greater awareness and more intentional living.
X-ALT-DESC;FMTTYPE=text/html:Join Sopris Lodge for &quot\;Conversations on Mortality\,&quot\; a welcoming and relaxed space to explore topics around death and dying through thoughtful\, meaningful conversation. Led by Death Doula and End-of-Life Consultant Akaljeet Khalsa\, this quarterly gathering offers an opportunity for reflection\, connection and shared perspectives\, fostering greater awareness and more intentional living.
LOCATION:Sopris Lodge at Carbondale 295 Rio Grande Avenue\, Carbondale\, CO 81623
UID:e.419.15951
SEQUENCE:3
DTSTAMP:20260424T000436Z
URL:https://chamber.carbondale.com/events/details/conversations-on-mortality-15951
END:VEVENT

END:VCALENDAR
