BEGIN:VCALENDAR
VERSION:2.0
PRODID:-//ChamberMaster//Event Calendar 2.0//EN
METHOD:PUBLISH
X-PUBLISHED-TTL:P3D
REFRESH-INTERVAL:P3D
CALSCALE:GREGORIAN
BEGIN:VEVENT
DTSTART:20260519T213000Z
DTEND:20260519T230000Z
X-MICROSOFT-CDO-ALLDAYEVENT:FALSE
SUMMARY:From Grief to Growth: Healing After Loss Series
DESCRIPTION:Sopris Lodge at Carbondale and HomeCare & Hospice of the Valley present a four-part grief support series featuring a rotating lineup of compassionate speakers. Sessions take place on the third Tuesday of every month May - July in the Community Room at the Carbondale Branch Library. May's session will be co-led by Marie Herr\, Executive Director of Sopris Lodge\, and Anne Wolf\, an integrative trauma coach. They'll explore how grief affects both body and mind causing stress\, tension\, sleep issues\, and other health challenges and how caregiving fatigue adds another layer to the process. The speakers will also share simple\, supportive practices to bring calm and create space for healing.
X-ALT-DESC;FMTTYPE=text/html:Sopris Lodge at Carbondale and HomeCare &amp\; Hospice of the Valley present a four-part grief support series featuring a rotating lineup of compassionate speakers. Sessions take place on the third Tuesday of every month May - July in the Community Room at the Carbondale Branch Library. May&rsquo\;s session will be co-led by Marie Herr\, Executive Director of Sopris Lodge\, and Anne Wolf\, an integrative trauma coach. They&rsquo\;ll explore how grief affects both body and mind&mdash\;causing stress\, tension\, sleep issues\, and other health challenges&mdash\;and how caregiving fatigue adds another layer to the process. The speakers will also share simple\, supportive practices to bring calm and create space for healing.
LOCATION:Carbondale Branch Library 320 Sopris Avenue Carbondale\, CO 81623
UID:e.419.15949
SEQUENCE:3
DTSTAMP:20260423T200246Z
URL:https://chamber.carbondale.com/events/details/from-grief-to-growth-healing-after-loss-series-15949
END:VEVENT

END:VCALENDAR
