BEGIN:VCALENDAR
VERSION:2.0
PRODID:-//ChamberMaster//Event Calendar 2.0//EN
METHOD:PUBLISH
X-PUBLISHED-TTL:P3D
REFRESH-INTERVAL:P3D
CALSCALE:GREGORIAN
BEGIN:VEVENT
DTSTART:20260516T200000Z
DTEND:20260516T220000Z
X-MICROSOFT-CDO-ALLDAYEVENT:FALSE
SUMMARY:Hands & Hearts: Celebrating Caregivers
DESCRIPTION:Join Sopris Lodge and Roaring Fork Home Care for a Caregiver Appreciation Event honoring the hands and hearts of those who make a difference every day. Whether you're a caregiver\, support professional\, or family member\, this event is for you. Take a well-deserved break\, connect with others and let us take care of you for a change. Guests will enjoy an afternoon of relaxation featuring complimentary hand massages\, live entertainment by guitarist Rodrigo\, raffle prizes\, refreshments\, activities\, and more.
X-ALT-DESC;FMTTYPE=text/html:Join Sopris Lodge and Roaring Fork Home Care for a Caregiver Appreciation Event honoring the hands and hearts of those who make a difference every day. Whether you&rsquo\;re a caregiver\, support professional\, or family member\, this event is for you. Take a well-deserved break\, connect with others and let us take care of you for a change. Guests will enjoy an afternoon of relaxation featuring complimentary hand massages\, live entertainment by guitarist Rodrigo\, raffle prizes\, refreshments\, activities\, and more.
LOCATION:Sopris Lodge at Carbondale 295 Rio Grande Avenue\, Carbondale\, CO 81623
UID:e.419.15948
SEQUENCE:3
DTSTAMP:20260423T200138Z
URL:https://chamber.carbondale.com/events/details/hands-hearts-celebrating-caregivers-15948
END:VEVENT

END:VCALENDAR
