BEGIN:VCALENDAR
VERSION:2.0
PRODID:-//ChamberMaster//Event Calendar 2.0//EN
METHOD:PUBLISH
X-PUBLISHED-TTL:P3D
REFRESH-INTERVAL:P3D
CALSCALE:GREGORIAN
BEGIN:VEVENT
DTSTART:20190621T000000Z
DTEND:20190621T020000Z
X-MICROSOFT-CDO-ALLDAYEVENT:FALSE
SUMMARY:Jessica Cato Dialogue- Rev. Lennox Yearwood Jr.
DESCRIPTION:Rev. Lennox Yearwood Jr.\, President and CEO of the Hip Hop Caucus\, is a minister\, community activist and one of the most influential people in Hip Hop political life. He works tirelessly to encourage the Hip Hop generation to utilize its political and social voice. A national leader and pacemaker within the green movement\, Rev. Yearwood has been successfully bridging the gap between communities of color and environmental issue advocacy for the past four years. With a diverse set of celebrity allies\, Rev. Yearwood raises awareness and action in communities that are often overlooked by traditional environmental campaigns. Rev. Yearwood's innovative stance has garnered the Hip Hop Caucus support from several environmental leaders including the National Wildlife Federation\, Earthjustice\, and former Vice President Al Gore's Alliance for Climate Protection. ACES' Jessica Catto Dialogues honor the environmental legacy of Jessica Hobby Catto through a speaker series featuring visionary thinkers and doers from all realms of environmental concerns. Please walk\, bike\, bus\, or carpool to Harris Hall. RSVP at aspennature.org. RSVP does not reserve a seat.
X-ALT-DESC;FMTTYPE=text/html:Rev. Lennox Yearwood Jr.\, President and CEO of the Hip Hop Caucus\, is a minister\, community activist and one of the most influential people in Hip Hop political life. He works tirelessly to encourage the Hip Hop generation to utilize its political and social voice. A national leader and pacemaker within the green movement\, Rev. Yearwood has been successfully bridging the gap between communities of color and environmental issue advocacy for the past four years. With a diverse set of celebrity allies\, Rev. Yearwood raises awareness and action in communities that are often overlooked by traditional environmental campaigns. Rev. Yearwood&rsquo\;s innovative stance has garnered the Hip Hop Caucus support from several environmental leaders including the National Wildlife Federation\, Earthjustice\, and former Vice President Al Gore&rsquo\;s Alliance for Climate Protection. ACES&rsquo\; Jessica Catto Dialogues honor the environmental legacy of Jessica Hobby Catto through a speaker series featuring visionary thinkers and doers from all realms of environmental concerns. Please walk\, bike\, bus\, or carpool to Harris Hall. RSVP at aspennature.org. RSVP does not reserve a seat.
LOCATION:Harris Concert Hall\, Aspen
UID:e.419.8852
SEQUENCE:3
DTSTAMP:20260421T172020Z
URL:https://chamber.carbondale.com/events/details/jessica-cato-dialogue-rev-lennox-yearwood-jr-8852
END:VEVENT

END:VCALENDAR
