BEGIN:VCALENDAR
VERSION:2.0
PRODID:-//ChamberMaster//Event Calendar 2.0//EN
METHOD:PUBLISH
X-PUBLISHED-TTL:P3D
REFRESH-INTERVAL:P3D
CALSCALE:GREGORIAN
BEGIN:VEVENT
DTSTART:20121221T023000Z
DTEND:20121221T040000Z
X-MICROSOFT-CDO-ALLDAYEVENT:FALSE
SUMMARY:JOURNEY OF THE UNIVERSE: an EMMY Award winning documentary
DESCRIPTION:Journey of the Universe is the Epic Story of Cosmic\, Earth\, and Human Transformation that won the EMMY  for Best Documentary in 2010. The film is written by Brian Thomas Swimme & Mary Evelyn Tucker. Using his skills as a masterful storyteller\, Brian Swimme connects such big picture issues as the birth of the cosmos 14 billion years ago   to the invisible frontiers of the human genome   as well as to our current impact on Earth's evolutionary dynamics. Through his engaging and thoughtful observations audiences everywhere will discover the profound role we play in this intricate web of life. The film is a kickoff to 2 days of events celebrating Winter Solstice and Birth 2012. See Davi Nikent Events calendar for details of events Dec. 21st & 22nd. Also  go to  http://bit.ly/Dec21-22ScheduleofEvents
X-ALT-DESC;FMTTYPE=text/html:<span class="event-description"><span style="line-height: 115%\; font-family: 'calibri'\, 'sans-serif'\; font-size: 11pt\; mso-fareast-font-family: calibri\; mso-fareast-theme-font: minor-latin\; mso-bidi-font-family: 'times new roman'\; mso-bidi-theme-font: minor-bidi\; mso-ansi-language: en-us\; mso-fareast-language: en-us\; mso-bidi-language: ar-sa">Journey of the Universe is the Epic Story of Cosmic\, Earth\, and Human Transformation that won the EMMY&reg\; for Best Documentary in 2010. The film is written by Brian Thomas Swimme &amp\; Mary Evelyn Tucker. Using his skills as a masterful storyteller\, Brian Swimme connects such big picture issues as the birth of the cosmos 14 billion years ago &ndash\; to the invisible frontiers of the human genome &ndash\; as well as to our current impact on Earth&rsquo\;s evolutionary dynamics. Through his engaging and thoughtful observations audiences everywhere will discover the profound role we play in this intricate web of life. The film is a kickoff to 2 days of events celebrating Winter Solstice and Birth 2012. See Davi Nikent Events calendar for details of events Dec. 21st &amp\; 22nd. Also&nbsp\; go to </span></span><span style="font-family: 'calibri'\, 'sans-serif'\; color: #1f497d\; font-size: 11pt\; mso-fareast-font-family: calibri\; mso-fareast-theme-font: minor-latin\; mso-bidi-font-family: 'times new roman'\; mso-ansi-language: en-us\; mso-fareast-language: en-us\; mso-bidi-language: ar-sa"><span style="mso-spacerun: yes">&nbsp\;</span></span><span class="usercontent"><span style="font-family: 'times new roman'\, 'serif'\; font-size: 12pt\; mso-fareast-font-family: calibri\; mso-fareast-theme-font: minor-latin\; mso-ansi-language: en-us\; mso-fareast-language: en-us\; mso-bidi-language: ar-sa"><a href="http://bit.ly/Dec21-22ScheduleofEvents" target="_blank">http://bit.ly/Dec21-22ScheduleofEvents</a></span></span>
LOCATION:Calaway Room\, Third Street Center\, 520 S. Third Street\, Carbondale\, CO 81623 (map)
UID:e.419.4776
SEQUENCE:3
DTSTAMP:20260423T012636Z
URL:https://chamber.carbondale.com/events/details/journey-of-the-universe-an-emmy-award-winning-documentary-12-20-2012-4776
END:VEVENT

END:VCALENDAR
