BEGIN:VCALENDAR
VERSION:2.0
PRODID:-//ChamberMaster//Event Calendar 2.0//EN
METHOD:PUBLISH
X-PUBLISHED-TTL:P3D
REFRESH-INTERVAL:P3D
CALSCALE:GREGORIAN
BEGIN:VEVENT
DTSTART:20260521T160000Z
DTEND:20260521T170000Z
X-MICROSOFT-CDO-ALLDAYEVENT:FALSE
SUMMARY:Mornings with Marie
DESCRIPTION:Join us for a morning of connection with Sopris Lodge Executive Director\, Marie Herr! Enjoy light refreshments\, meaningful conversation and the opportunity to ask questions\, meet leadership and learn more about our full-service senior living community offering care\, comfort and connection.
X-ALT-DESC;FMTTYPE=text/html:Join us for a morning of connection with Sopris Lodge Executive Director\, Marie Herr! Enjoy light refreshments\, meaningful conversation and the opportunity to ask questions\, meet leadership and learn more about our full-service senior living community offering care\, comfort and connection.
LOCATION:Sopris Lodge at Carbondale 295 Rio Grande Avenue\, Carbondale\, CO 81623
UID:e.419.15950
SEQUENCE:3
DTSTAMP:20260423T213619Z
URL:https://chamber.carbondale.com/events/details/mornings-with-marie-15950
END:VEVENT

END:VCALENDAR
