BEGIN:VCALENDAR
VERSION:2.0
PRODID:-//ChamberMaster//Event Calendar 2.0//EN
METHOD:PUBLISH
X-PUBLISHED-TTL:P3D
REFRESH-INTERVAL:P3D
CALSCALE:GREGORIAN
BEGIN:VEVENT
DTSTART:20190716T233000Z
DTEND:20190717T020000Z
X-MICROSOFT-CDO-ALLDAYEVENT:FALSE
SUMMARY:Musical Revue: The Osgood Era\, July 16
DESCRIPTION:The Castle Courtyard Players return this summer with live musical\, theatrical\, and historical shows in the Redstone Castle Courtyard. Visitors\, guests and history buffs are invited to join us July 2\, July 16\, and July 30 for The Osgood Era! The Osgood Era\, musically details the life and times of J.C. Osgood\, Redstone's founder\, his three wives\, and the development of Osgood's model village in the Crystal Valley. Limited Castle Access from 5:30pm-6:15pm\, Show from 6:15pm-7:45pm (no intermission). Cash bar. Tickets are $35.00 per person and $12.50 for children under 12. Reservations are required and may be made online at redstonecastle.ticketspice.com/osgood-era-musical-revue. Seating is limited. Event admission is complimentary for guests of the Castle on the night of each performance. To learn more about our unique suites\, please visit\, theredstonecastle.com/suites. For additional information please visit theredstonecastle.com or call 970-963-9656.
X-ALT-DESC;FMTTYPE=text/html:The Castle Courtyard Players return this summer with live musical\, theatrical\, and historical shows in the Redstone Castle Courtyard. Visitors\, guests and history buffs are invited to join us July 2\, July 16\, and July 30 for The Osgood Era! The Osgood Era\, musically details the life and times of J.C. Osgood\, Redstone&rsquo\;s founder\, his three wives\, and the development of Osgood&rsquo\;s model village in the Crystal Valley. Limited Castle Access from 5:30pm-6:15pm\, Show from 6:15pm-7:45pm (no intermission). Cash bar. Tickets are $35.00 per person and $12.50 for children under 12. Reservations are required and may be made online at redstonecastle.ticketspice.com/osgood-era-musical-revue. Seating is limited. Event admission is complimentary for guests of the Castle on the night of each performance. To learn more about our unique suites\, please visit\, theredstonecastle.com/suites. For additional information please visit theredstonecastle.com or call 970-963-9656.
LOCATION:The Redstone Castle
UID:e.419.8866
SEQUENCE:3
DTSTAMP:20260420T035003Z
URL:https://chamber.carbondale.com/events/details/musical-revue-the-osgood-era-july-16-8866
END:VEVENT

END:VCALENDAR
