BEGIN:VCALENDAR
VERSION:2.0
PRODID:-//ChamberMaster//Event Calendar 2.0//EN
METHOD:PUBLISH
X-PUBLISHED-TTL:P3D
REFRESH-INTERVAL:P3D
CALSCALE:GREGORIAN
BEGIN:VEVENT
DTSTART:20211009T210000Z
DTEND:20211019T221500Z
X-MICROSOFT-CDO-ALLDAYEVENT:FALSE
SUMMARY:NYICFF KID FLICKS ONE
DESCRIPTION:A program of inspiring short films for ages 5+! NYICFF Kid Flicks One keeps the dynamic of work and play lively with tales from around the globe. Cat Lake City has you covered if you\, like its loveable feline\, feel like you just can't catch a break in this hilarious tale of a hard-won vacay. But if you're fortunate\, you know that effort and fun can happily co-exist as they do in the short doc The Magic of Chess. Finally\, meet another hard-worker who gets a little lost dawdling in the countryside in the beautifully hand-animated Boriya. 58 mins.\, In English\, no dialogue\, or with brief English subtitles
X-ALT-DESC;FMTTYPE=text/html:A program of inspiring short films for ages 5+! NYICFF Kid Flicks One keeps the dynamic of work and play lively with tales from around the globe. Cat Lake City has you covered if you\, like its loveable feline\, feel like you just can&rsquo\;t catch a break in this hilarious tale of a hard-won vacay. But if you&rsquo\;re fortunate\, you know that effort and fun can happily co-exist as they do in the short doc The Magic of Chess. Finally\, meet another hard-worker who gets a little lost dawdling in the countryside in the beautifully hand-animated Boriya. 58 mins.\, In English\, no dialogue\, or with brief English subtitles
LOCATION:The Arts Campus at Willits 400 Robinson St. Basalt\, CO 81621
UID:e.419.10334
SEQUENCE:3
DTSTAMP:20260421T171227Z
URL:https://chamber.carbondale.com/events/details/nyicff-kid-flicks-one-10334
END:VEVENT

END:VCALENDAR
