BEGIN:VCALENDAR
VERSION:2.0
PRODID:-//ChamberMaster//Event Calendar 2.0//EN
METHOD:PUBLISH
X-PUBLISHED-TTL:P3D
REFRESH-INTERVAL:P3D
CALSCALE:GREGORIAN
BEGIN:VEVENT
DTSTART:20260430T213000Z
DTEND:20260430T230000Z
X-MICROSOFT-CDO-ALLDAYEVENT:FALSE
SUMMARY:Responding to Dementia Behaviors: Tools for Caregivers
DESCRIPTION:Behavior is a powerful form of communication and often becomes the primary way people living with dementia express their needs and feelings. Join Sopris Lodge and HomeCare & Hospice of the Valley for a free\, interactive demonstration and talk on responding to dementia-related behaviors. Learn practical tools and strategies to decode behavioral messages\, identify common triggers and respond effectively to everyday caregiving challenges.
X-ALT-DESC;FMTTYPE=text/html:Behavior is a powerful form of communication and often becomes the primary way people living with dementia express their needs and feelings. Join Sopris Lodge and HomeCare &amp\; Hospice of the Valley for a free\, interactive demonstration and talk on responding to dementia-related behaviors. Learn practical tools and strategies to decode behavioral messages\, identify common triggers and respond effectively to everyday caregiving challenges.
LOCATION:Sopris Lodge at Carbondale 295 Rio Grande Avenue\, Carbondale\, CO 81623
UID:e.419.15946
SEQUENCE:3
DTSTAMP:20260423T011843Z
URL:https://chamber.carbondale.com/events/details/responding-to-dementia-behaviors-tools-for-caregivers-15946
END:VEVENT

END:VCALENDAR
