BEGIN:VCALENDAR
VERSION:2.0
PRODID:-//ChamberMaster//Event Calendar 2.0//EN
METHOD:PUBLISH
X-PUBLISHED-TTL:P3D
REFRESH-INTERVAL:P3D
CALSCALE:GREGORIAN
BEGIN:VEVENT
DTSTART:20240803T150000Z
DTEND:20240803T210000Z
X-MICROSOFT-CDO-ALLDAYEVENT:FALSE
SUMMARY:RiverFEST 2024- Annual Cleanup: Colorado & Roaring Fork Rivers
DESCRIPTION:RiverFEST is a free\, annual river cleanup sponsored by the City of Glenwood Springs and the City's River Commission as an "Annual River Cleanup"\, occurring on SATURDAY\, AUGUST 3\, 2024. 9am-12pm- It begins along the Colorado and Roaring Fork River corridors through Glenwood Springs. Participants can float or walk the banks to pick up trash during the event. 12pm-3pm - It ends in Two Rivers Park with a celebration for participants who will be treated to a tasty catered picnic\, where they can listen to live music\, dance\, sample locally brewed beers\, relax\, trade stories\, and celebrate a wonderful community accomplishment. Through this event there are many ways to get involved and be an integral part of our community. You can join as: -an individual volunteer\, -walk the bank or float in your own boat as a small social group or family\, or your organization or employer can sign up as a whole entity. -Or you can help set-up (9am-12pm) or tear-down the event (3-4pm).
X-ALT-DESC;FMTTYPE=text/html:RiverFEST is a free\, annual river cleanup sponsored by the City of Glenwood Springs and the City&#39\;s River Commission as an &quot\;Annual River Cleanup&quot\;\, occurring on SATURDAY\, AUGUST 3\, 2024. 9am-12pm- It begins along the Colorado and Roaring Fork River corridors through Glenwood Springs. Participants can float or walk the banks to pick up trash during the event. 12pm-3pm - It ends in Two Rivers Park with a celebration for participants who will be treated to a tasty catered picnic\, where they can listen to live music\, dance\, sample locally brewed beers\, relax\, trade stories\, and celebrate a wonderful community accomplishment. Through this event there are many ways to get involved and be an integral part of our community. You can join as: -an individual volunteer\, -walk the bank or float in your own boat as a small social group or family\, or your organization or employer can sign up as a whole entity. -Or you can help set-up (9am-12pm) or tear-down the event (3-4pm).
LOCATION:Two Rivers Park (740 Devereux Road\, Glenwood Springs\, CO 81601)
UID:e.419.12848
SEQUENCE:3
DTSTAMP:20260420T182937Z
URL:https://chamber.carbondale.com/events/details/riverfest-2024-annual-cleanup-colorado-roaring-fork-rivers-12848
END:VEVENT

END:VCALENDAR
