BEGIN:VCALENDAR
VERSION:2.0
PRODID:-//ChamberMaster//Event Calendar 2.0//EN
METHOD:PUBLISH
X-PUBLISHED-TTL:P3D
REFRESH-INTERVAL:P3D
CALSCALE:GREGORIAN
BEGIN:VEVENT
DTSTART:20260515T230000Z
DTEND:20260516T020000Z
X-MICROSOFT-CDO-ALLDAYEVENT:FALSE
SUMMARY:Rock and Roll Academy: Spring Performance
DESCRIPTION:The Rock and Roll Academy Spring Rock Concert is the culmination of over 4 months of work by area middle and high school student musicians and their bands to bring the community a ROCKING concert that is inspirational beyond words. All the songs are picked or written by the students and the passionate performances of these hits through the ages is unforgettable!
X-ALT-DESC;FMTTYPE=text/html:<p><strong>The Rock and Roll Academy Spring Rock Concert</strong>&nbsp\;is the culmination of over 4 months of work by area middle and high school student musicians and their bands to bring the community a ROCKING concert that is inspirational beyond words. All the songs are picked or written by the students and the passionate performances of these hits through the ages is unforgettable!</p>\n
LOCATION:The Arts Campus at Willits - TACAW 400 Robinson Street Willits\, CO
UID:e.419.15955
SEQUENCE:3
DTSTAMP:20260423T195804Z
URL:https://chamber.carbondale.com/events/details/rock-and-roll-academy-spring-performance-15955
END:VEVENT

END:VCALENDAR
