BEGIN:VCALENDAR
VERSION:2.0
PRODID:-//ChamberMaster//Event Calendar 2.0//EN
METHOD:PUBLISH
X-PUBLISHED-TTL:P3D
REFRESH-INTERVAL:P3D
CALSCALE:GREGORIAN
BEGIN:VEVENT
DTSTART:20170429T020000Z
DTEND:20170429T050000Z
X-MICROSOFT-CDO-ALLDAYEVENT:FALSE
SUMMARY:Rosewood Divine
DESCRIPTION:Months after cross-country moves\, new jobs\, and new lives\, Ali Paine Welch and Shaefer Welch now call the Roaring Fork Valley home. Both leaving the mecca of the music industry in Nashville behind\, the two have brought their talents and styles together to form Rosewood Divine. After years of learning\, writing\, and playing\, they both found themselves aspiring for a change. Rosewood Divine was in the beginning stages of a harmony driven duo   Shaefer (MDC's Spirit Ambassador & Head Bartender!) brings a gritty acoustic country sound to complement the incredible vocals and lyrical savvy of Ali. Together the two have found a folky\, harmony-driven sound that reaches out to all.
X-ALT-DESC;FMTTYPE=text/html:Months after cross-country moves\, new jobs\, and new lives\, Ali Paine Welch and Shaefer Welch now call the Roaring Fork Valley home. Both leaving the mecca of the music industry in Nashville behind\, the two have brought their talents and styles together to form Rosewood Divine. After years of learning\, writing\, and playing\, they both found themselves aspiring for a change. Rosewood Divine was in the beginning stages of a harmony driven duo &ndash\; Shaefer&nbsp\;(MDC&rsquo\;s Spirit Ambassador &amp\; Head Bartender!) brings a gritty acoustic country sound to complement the incredible vocals and lyrical savvy of Ali. Together the two have found a folky\, harmony-driven sound that reaches out to all.
LOCATION:Marble Distilling Co.
UID:e.419.6927
SEQUENCE:3
DTSTAMP:20260426T025824Z
URL:https://chamber.carbondale.com/events/details/rosewood-divine-04-28-2017-6927
END:VEVENT

END:VCALENDAR
