BEGIN:VCALENDAR
VERSION:2.0
PRODID:-//ChamberMaster//Event Calendar 2.0//EN
METHOD:PUBLISH
X-PUBLISHED-TTL:P3D
REFRESH-INTERVAL:P3D
CALSCALE:GREGORIAN
BEGIN:VEVENT
DTSTART:20260512T003000Z
DTEND:20260811T023000Z
X-MICROSOFT-CDO-ALLDAYEVENT:FALSE
SUMMARY:Sacred Brotherhood Circle
DESCRIPTION:A structured space for men to develop health connection with other men through intentional conversation and embodiment. Topics vary around four key areas of life: Purpose\, Prosperity\, Pleasure\, and Peace. Embodiment practices include breathwork\, meditation\, and functional movement. Men leave with: - Sense of relief in knowing you are not alone - Clarity on an issue or decision you've been struggling with - Tools and frameworks to deal with stress and conflict at work or home - New friends to talk\, bike\, hike\, etc. with - Feeling of being more in control of your life. Grounded and inspired. Register at: https://www.eventbrite.com/e/sacred-brotherhood-circle-with-kyle-jason-leitzke-tickets-1230677683079?aff=oddtdtcreator
X-ALT-DESC;FMTTYPE=text/html:A structured space for men to develop health connection with other men through intentional conversation and embodiment. Topics vary around four key areas of life: Purpose\, Prosperity\, Pleasure\, and Peace. Embodiment practices include breathwork\, meditation\, and functional movement. Men leave with: - Sense of relief in knowing you are not alone - Clarity on an issue or decision you&rsquo\;ve been struggling with - Tools and frameworks to deal with stress and conflict at work or home - New friends to talk\, bike\, hike\, etc. with - Feeling of being more in control of your life. Grounded and inspired. Register at: https://www.eventbrite.com/e/sacred-brotherhood-circle-with-kyle-jason-leitzke-tickets-1230677683079?aff=oddtdtcreator
LOCATION:True Nature Healing Arts
UID:e.419.15953
SEQUENCE:3
DTSTAMP:20260423T200344Z
URL:https://chamber.carbondale.com/events/details/sacred-brotherhood-circle-05-11-2026-15953
END:VEVENT

END:VCALENDAR
