BEGIN:VCALENDAR
VERSION:2.0
PRODID:-//ChamberMaster//Event Calendar 2.0//EN
METHOD:PUBLISH
X-PUBLISHED-TTL:P3D
REFRESH-INTERVAL:P3D
CALSCALE:GREGORIAN
BEGIN:VEVENT
DTSTART:20260503T180000Z
DTEND:20260503T230000Z
X-MICROSOFT-CDO-ALLDAYEVENT:FALSE
SUMMARY:Spring Market
DESCRIPTION:Spring is a season of rebirth\, re-growth\, and vibrant new energy. Join us at our Spring Market to celebrate the season of becoming. Whether you're looking for the perfect intentional gift or a moment of deep self-care\, our curated vendors have you covered. Step out onto the patio to experience a variety of healing modalities designed to align your energy with the blooming world around us. This market also offers a great opportunity to find a thoughtful gift for Mother's Day right around the corner.
X-ALT-DESC;FMTTYPE=text/html:<p>Spring is a season of rebirth\, re-growth\, and vibrant new energy. Join us at our Spring Market to celebrate the season of becoming. Whether you&rsquo\;re looking for the perfect intentional gift or a moment of deep self-care\, our curated vendors have you covered. Step out onto the patio to experience a variety of healing modalities designed to align your energy with the blooming world around us. This market also offers a great opportunity to find a thoughtful gift for Mother&rsquo\;s Day right around the corner.</p>\n
LOCATION:The Arts Campus At Willits 400 Robinson Street Basalt\, CO 81621
UID:e.419.15943
SEQUENCE:3
DTSTAMP:20260421T145211Z
URL:https://chamber.carbondale.com/events/details/spring-market-15943
END:VEVENT

END:VCALENDAR
