BEGIN:VCALENDAR
VERSION:2.0
PRODID:-//ChamberMaster//Event Calendar 2.0//EN
METHOD:PUBLISH
X-PUBLISHED-TTL:P3D
REFRESH-INTERVAL:P3D
CALSCALE:GREGORIAN
BEGIN:VEVENT
DTSTART:20220602T220000Z
DTEND:20220602T230000Z
X-MICROSOFT-CDO-ALLDAYEVENT:FALSE
SUMMARY:Story Art with Aspen Art Museum
DESCRIPTION:Kids are invited to join us for Story Art with the Aspen Art Museum to learn about artists and create masterpieces of their own! We'll meet the first Thursday each month\, and you can drop in for one class or attend them all.
X-ALT-DESC;FMTTYPE=text/html:Kids are invited to join us for Story Art with the Aspen Art Museum to learn about artists and create masterpieces of their own!&nbsp\;We&#39\;ll meet the first Thursday each month\, and you can drop in for one class or attend them all.&nbsp\;
LOCATION:Carbondale Branch Library 320 Sopris Ave
UID:e.419.9776
SEQUENCE:3
DTSTAMP:20260419T140045Z
URL:https://chamber.carbondale.com/events/details/story-art-with-aspen-art-museum-06-02-2022-9776
END:VEVENT

END:VCALENDAR
