BEGIN:VCALENDAR
VERSION:2.0
PRODID:-//ChamberMaster//Event Calendar 2.0//EN
METHOD:PUBLISH
X-PUBLISHED-TTL:P3D
REFRESH-INTERVAL:P3D
CALSCALE:GREGORIAN
BEGIN:VEVENT
DTSTART:20190811T163000Z
DTEND:20190811T220000Z
X-MICROSOFT-CDO-ALLDAYEVENT:FALSE
SUMMARY:Summer Polo Benefit
DESCRIPTION:"Chukkers\, Champagne & Caviar" summer polo. Join us for an incredible day of luxury and polo to benefit Aspen Valley Hospital Foundation.
X-ALT-DESC;FMTTYPE=text/html:&quot\;Chukkers\, Champagne &amp\; Caviar&quot\; summer polo. Join us for an incredible day of luxury and polo to benefit Aspen Valley Hospital Foundation.
LOCATION:Aspen Valley Polo Club in Carbondale
UID:e.419.8696
SEQUENCE:3
DTSTAMP:20260424T054842Z
URL:https://chamber.carbondale.com/events/details/summer-polo-benefit-8696
END:VEVENT

END:VCALENDAR
