BEGIN:VCALENDAR
VERSION:2.0
PRODID:-//ChamberMaster//Event Calendar 2.0//EN
METHOD:PUBLISH
X-PUBLISHED-TTL:P3D
REFRESH-INTERVAL:P3D
CALSCALE:GREGORIAN
BEGIN:VEVENT
DTSTART:20260521T200000Z
DTEND:20260521T213000Z
X-MICROSOFT-CDO-ALLDAYEVENT:FALSE
SUMMARY:Third Thursday Book Club
DESCRIPTION:Join us at the Carbondale Library each Third Thursday at 2:00 for a lively book discussion. Our May book is "The Lion Women of Tehran" by Marjan Kamali. For more information call the Carbondale Library 970-963-2889.
X-ALT-DESC;FMTTYPE=text/html:Join us at the Carbondale Library each Third Thursday at 2:00 for a lively book discussion. Our May book is &ldquo\;The Lion Women of Tehran&rdquo\; by Marjan Kamali. For more information call the Carbondale Library 970-963-2889.
LOCATION:Carbondale Library 320 Sopris Avenue Carbondale CO 81623
UID:e.419.15954
SEQUENCE:3
DTSTAMP:20260423T213652Z
URL:https://chamber.carbondale.com/events/details/third-thursday-book-club-05-21-2026-15954
END:VEVENT

END:VCALENDAR
