BEGIN:VCALENDAR
VERSION:2.0
PRODID:-//ChamberMaster//Event Calendar 2.0//EN
METHOD:PUBLISH
X-PUBLISHED-TTL:P3D
REFRESH-INTERVAL:P3D
CALSCALE:GREGORIAN
BEGIN:VEVENT
DTSTART:20200121T023000Z
DTEND:20200121T040000Z
X-MICROSOFT-CDO-ALLDAYEVENT:FALSE
SUMMARY:TRTC's Diva Cabaret
DESCRIPTION:Divo Bob Moore\, his guitar and TRTC's intimate theatre are the perfect combination for a magical night of music and laughter. Bob has shared his gift for acting on many a stage over his lifetime but now he'll share with you his voice and folk music! This evening's performance features the musical side of Bob.
X-ALT-DESC;FMTTYPE=text/html:Divo Bob Moore\, his guitar and TRTC&#39\;s intimate theatre are the perfect combination for a magical night of music and laughter. Bob has shared his gift for acting on many a stage over his lifetime but now he&#39\;ll share with you his voice and folk music! This evening&rsquo\;s performance features the musical side of Bob.
LOCATION:Thunder River Theatre Company 67 Promenade\, Carbondale\, CO
UID:e.419.9527
SEQUENCE:3
DTSTAMP:20260424T095348Z
URL:https://chamber.carbondale.com/events/details/trtc-s-diva-cabaret-9527
END:VEVENT

END:VCALENDAR
